BEGIN:VCALENDAR
VERSION:2.0
PRODID:-//VK SA. AIR-CON &amp; REFRIGERATION  - ECPv4.7.3//NONSGML v1.0//EN
CALSCALE:GREGORIAN
METHOD:PUBLISH
X-WR-CALNAME:VK SA. AIR-CON &amp; REFRIGERATION 
X-ORIGINAL-URL:http://vksa.com.au
X-WR-CALDESC:Events for VK SA. AIR-CON &amp; REFRIGERATION 
BEGIN:VEVENT
DTSTART;TZID=UTC+0:20161215T080000
DTEND;TZID=UTC+0:20170215T170000
DTSTAMP:20200301T154111
CREATED:20170114T052946Z
LAST-MODIFIED:20170114T052946Z
UID:2007-1481788800-1487178000@vksa.com.au
SUMMARY:Winter Special- 25$ off Any Service
DESCRIPTION:Not to be combine with other services. \n
URL:http://vksa.com.au/special-offer/winter-special-25-off-any-service/
CATEGORIES:Special Offers
ATTACH;FMTTYPE=image/jpeg:http://vksa.com.au/wp-content/uploads/2016/10/apart08-1.jpg
END:VEVENT
BEGIN:VEVENT
DTSTART;TZID=UTC+0:20161215T080000
DTEND;TZID=UTC+0:20170215T170000
DTSTAMP:20200301T154111
CREATED:20170114T052946Z
LAST-MODIFIED:20170114T052946Z
UID:2118-1481788800-1487178000@vksa.com.au
SUMMARY:Winter Special- 25$ off Any Service
DESCRIPTION:Not to be combine with other services. \n
URL:http://vksa.com.au/special-offer/winter-special-25-off-any-service-2/
CATEGORIES:Special Offers
ATTACH;FMTTYPE=image/jpeg:http://vksa.com.au/wp-content/uploads/2016/10/apart08-1.jpg
END:VEVENT
BEGIN:VEVENT
DTSTART;TZID=UTC+0:20161215T080000
DTEND;TZID=UTC+0:20170215T170000
DTSTAMP:20200301T154111
CREATED:20170114T052946Z
LAST-MODIFIED:20170114T052946Z
UID:2134-1481788800-1487178000@vksa.com.au
SUMMARY:Winter Special- 25$ off Any Service
DESCRIPTION:Not to be combine with other services. \n
URL:http://vksa.com.au/special-offer/winter-special-25-off-any-service-3/
CATEGORIES:Special Offers
ATTACH;FMTTYPE=image/jpeg:http://vksa.com.au/wp-content/uploads/2016/10/apart08-1.jpg
END:VEVENT
BEGIN:VEVENT
DTSTART;TZID=UTC+0:20170130T080000
DTEND;TZID=UTC+0:20170416T170000
DTSTAMP:20200301T154111
CREATED:20160926T002211Z
LAST-MODIFIED:20160926T002211Z
UID:775-1485763200-1492362000@vksa.com.au
SUMMARY:HURRY! This Offer Ends March 18\, 2017!
DESCRIPTION:Stay Comfortable With Savings Up To $2\,200 In Total Rebates And Tax Credits On A New\, Energy-Efficient Air Conditioning & Heating (HVAC) Installation!\nDid your air conditioning system live up to your expectations during the hot weather last summer? Do you think it will make it again this season…maybe? And\, how about your utility bills? Which direction are they headed? Bet it’s not down! \n
URL:http://vksa.com.au/special-offer/hurry-this-offer-ends-december-30-2016/
LOCATION:NY\, United States
CATEGORIES:Special Offers
ATTACH;FMTTYPE=image/jpeg:http://vksa.com.au/wp-content/uploads/2016/04/testimonial-2-1.jpg
END:VEVENT
BEGIN:VEVENT
DTSTART;TZID=UTC+0:20170130T080000
DTEND;TZID=UTC+0:20170416T170000
DTSTAMP:20200301T154111
CREATED:20160926T002211Z
LAST-MODIFIED:20160926T002211Z
UID:2107-1485763200-1492362000@vksa.com.au
SUMMARY:HURRY! This Offer Ends March 18\, 2017!
DESCRIPTION:Stay Comfortable With Savings Up To $2\,200 In Total Rebates And Tax Credits On A New\, Energy-Efficient Air Conditioning & Heating (HVAC) Installation!\nDid your air conditioning system live up to your expectations during the hot weather last summer? Do you think it will make it again this season…maybe? And\, how about your utility bills? Which direction are they headed? Bet it’s not down! \n
URL:http://vksa.com.au/special-offer/hurry-this-offer-ends-december-30-2016-2/
LOCATION:NY\, United States
CATEGORIES:Special Offers
ATTACH;FMTTYPE=image/jpeg:http://vksa.com.au/wp-content/uploads/2016/04/testimonial-2-1.jpg
END:VEVENT
BEGIN:VEVENT
DTSTART;TZID=UTC+0:20170130T080000
DTEND;TZID=UTC+0:20170416T170000
DTSTAMP:20200301T154111
CREATED:20160926T002211Z
LAST-MODIFIED:20160926T002211Z
UID:2132-1485763200-1492362000@vksa.com.au
SUMMARY:HURRY! This Offer Ends March 18\, 2017!
DESCRIPTION:Stay Comfortable With Savings Up To $2\,200 In Total Rebates And Tax Credits On A New\, Energy-Efficient Air Conditioning & Heating (HVAC) Installation!\nDid your air conditioning system live up to your expectations during the hot weather last summer? Do you think it will make it again this season…maybe? And\, how about your utility bills? Which direction are they headed? Bet it’s not down! \n
URL:http://vksa.com.au/special-offer/hurry-this-offer-ends-december-30-2016-3/
LOCATION:NY\, United States
CATEGORIES:Special Offers
ATTACH;FMTTYPE=image/jpeg:http://vksa.com.au/wp-content/uploads/2016/04/testimonial-2-1.jpg
END:VEVENT
BEGIN:VEVENT
DTSTART;TZID=UTC+0:20170130T080000
DTEND;TZID=UTC+0:20170416T170000
DTSTAMP:20200301T154111
CREATED:20160926T002211Z
LAST-MODIFIED:20160926T002211Z
UID:2160-1485763200-1492362000@vksa.com.au
SUMMARY:HURRY! This Offer Ends March 18\, 2017!
DESCRIPTION:Stay Comfortable With Savings Up To $2\,200 In Total Rebates And Tax Credits On A New\, Energy-Efficient Air Conditioning & Heating (HVAC) Installation!\nDid your air conditioning system live up to your expectations during the hot weather last summer? Do you think it will make it again this season…maybe? And\, how about your utility bills? Which direction are they headed? Bet it’s not down! \n
URL:http://vksa.com.au/special-offer/hurry-this-offer-ends-december-30-2016-4/
LOCATION:NY\, United States
CATEGORIES:Special Offers
ATTACH;FMTTYPE=image/jpeg:http://vksa.com.au/wp-content/uploads/2016/04/testimonial-2-1.jpg
END:VEVENT
END:VCALENDAR